Package: AnnotationHub Version: 3.14.0 Command: rm -rf AnnotationHub.buildbin-libdir && mkdir AnnotationHub.buildbin-libdir && F:\biocbuild\bbs-3.20-bioc\R\bin\R.exe CMD INSTALL --build --library=AnnotationHub.buildbin-libdir AnnotationHub_3.14.0.tar.gz StartedAt: 2025-04-01 07:40:00 -0400 (Tue, 01 Apr 2025) EndedAt: 2025-04-01 07:41:22 -0400 (Tue, 01 Apr 2025) EllapsedTime: 82.7 seconds RetCode: 0 Status: OK PackageFile: AnnotationHub_3.14.0.zip PackageFileSize: 1.238 MiB