Package: AnnotationHub Version: 3.14.0 Command: /home/biocbuild/bbs-3.20-bioc/R/bin/R CMD check --install=check:AnnotationHub.install-out.txt --library=/home/biocbuild/bbs-3.20-bioc/R/site-library --timings AnnotationHub_3.14.0.tar.gz StartedAt: 2025-01-30 19:52:57 -0500 (Thu, 30 Jan 2025) EndedAt: 2025-01-30 19:58:57 -0500 (Thu, 30 Jan 2025) EllapsedTime: 359.5 seconds RetCode: 0 Status: OK CheckDir: AnnotationHub.Rcheck Warnings: 0