Package: AnnotationHub Version: 3.14.0 Command: /home/biocbuild/bbs-3.20-bioc/R/bin/R CMD build --keep-empty-dirs --no-resave-data --md5 AnnotationHub StartedAt: 2025-01-30 16:11:27 -0500 (Thu, 30 Jan 2025) EndedAt: 2025-01-30 16:13:29 -0500 (Thu, 30 Jan 2025) EllapsedTime: 122.2 seconds RetCode: 0 Status: OK PackageFile: AnnotationHub_3.14.0.tar.gz PackageFileSize: 977.5 KiB