Package: AnnotationForge Version: 1.48.0 Command: /home/biocbuild/R/R/bin/R CMD INSTALL AnnotationForge StartedAt: 2025-01-27 21:18:10 -0000 (Mon, 27 Jan 2025) EndedAt: 2025-01-27 21:18:33 -0000 (Mon, 27 Jan 2025) EllapsedTime: 22.6 seconds RetCode: 0 Status: OK