Package: AnnotationForge Version: 1.48.0 Command: /home/biocbuild/R/R/bin/R CMD build --keep-empty-dirs --no-resave-data AnnotationForge StartedAt: 2025-01-27 22:17:19 -0000 (Mon, 27 Jan 2025) EndedAt: 2025-01-27 22:57:20 -0000 (Mon, 27 Jan 2025) EllapsedTime: 2400.7 seconds RetCode: None Status: TIMEOUT PackageFile: None PackageFileSize: NA