Package: AnnotationDbi Version: 1.68.0 Command: /home/biocbuild/R/R/bin/R CMD INSTALL AnnotationDbi StartedAt: 2025-02-03 20:34:58 -0000 (Mon, 03 Feb 2025) EndedAt: 2025-02-03 20:35:25 -0000 (Mon, 03 Feb 2025) EllapsedTime: 26.7 seconds RetCode: 0 Status: OK