Package: AnnotationDbi Version: 1.68.0 Command: /home/biocbuild/R/R/bin/R CMD build --keep-empty-dirs --no-resave-data AnnotationDbi StartedAt: 2025-01-30 21:30:57 -0000 (Thu, 30 Jan 2025) EndedAt: 2025-01-30 21:32:03 -0000 (Thu, 30 Jan 2025) EllapsedTime: 66.0 seconds RetCode: 0 Status: OK PackageFile: AnnotationDbi_1.68.0.tar.gz PackageFileSize: 4.158 MiB