Package: AnnotationDbi Version: 1.68.0 Command: /home/biocbuild/bbs-3.20-bioc/R/bin/R CMD check --install=check:AnnotationDbi.install-out.txt --library=/home/biocbuild/bbs-3.20-bioc/R/site-library --timings AnnotationDbi_1.68.0.tar.gz StartedAt: 2025-03-31 19:50:24 -0400 (Mon, 31 Mar 2025) EndedAt: 2025-03-31 19:57:15 -0400 (Mon, 31 Mar 2025) EllapsedTime: 410.6 seconds RetCode: 0 Status: WARNINGS CheckDir: AnnotationDbi.Rcheck Warnings: 1