Package: AnnotationDbi Version: 1.68.0 Command: /Library/Frameworks/R.framework/Resources/bin/R CMD INSTALL AnnotationDbi StartedAt: 2024-11-08 15:20:15 -0500 (Fri, 08 Nov 2024) EndedAt: 2024-11-08 15:20:23 -0500 (Fri, 08 Nov 2024) EllapsedTime: 7.6 seconds RetCode: 0 Status: OK