Package: AnnotationDbi Version: 1.68.0 Command: /Library/Frameworks/R.framework/Resources/bin/R CMD build --keep-empty-dirs --no-resave-data AnnotationDbi StartedAt: 2025-03-31 18:38:45 -0400 (Mon, 31 Mar 2025) EndedAt: 2025-03-31 18:40:04 -0400 (Mon, 31 Mar 2025) EllapsedTime: 79.3 seconds RetCode: 0 Status: OK PackageFile: AnnotationDbi_1.68.0.tar.gz PackageFileSize: 4.17 MiB