Package: Anaquin Version: 2.30.0 Command: F:\biocbuild\bbs-3.20-bioc\R\bin\R.exe CMD check --no-multiarch --install=check:Anaquin.install-out.txt --library=F:\biocbuild\bbs-3.20-bioc\R\library --no-vignettes --timings Anaquin_2.30.0.tar.gz StartedAt: 2025-02-03 23:06:09 -0500 (Mon, 03 Feb 2025) EndedAt: 2025-02-03 23:07:26 -0500 (Mon, 03 Feb 2025) EllapsedTime: 77.3 seconds RetCode: 0 Status: OK CheckDir: Anaquin.Rcheck Warnings: 0