Package: Anaquin Version: 2.30.0 Command: rm -rf Anaquin.buildbin-libdir && mkdir Anaquin.buildbin-libdir && F:\biocbuild\bbs-3.20-bioc\R\bin\R.exe CMD INSTALL --build --library=Anaquin.buildbin-libdir Anaquin_2.30.0.tar.gz StartedAt: 2025-02-04 07:57:34 -0500 (Tue, 04 Feb 2025) EndedAt: 2025-02-04 07:57:52 -0500 (Tue, 04 Feb 2025) EllapsedTime: 18.3 seconds RetCode: 0 Status: OK PackageFile: Anaquin_2.30.0.zip PackageFileSize: 461.5 KiB