Package: Anaquin Version: 2.30.0 Command: /home/biocbuild/bbs-3.20-bioc/R/bin/R CMD INSTALL Anaquin StartedAt: 2025-01-27 16:10:08 -0500 (Mon, 27 Jan 2025) EndedAt: 2025-01-27 16:10:13 -0500 (Mon, 27 Jan 2025) EllapsedTime: 4.3 seconds RetCode: 0 Status: OK