Package: Anaquin Version: 2.30.0 Command: /home/biocbuild/bbs-3.20-bioc/R/bin/R CMD check --install=check:Anaquin.install-out.txt --library=/home/biocbuild/bbs-3.20-bioc/R/site-library --timings Anaquin_2.30.0.tar.gz StartedAt: 2025-01-27 20:47:09 -0500 (Mon, 27 Jan 2025) EndedAt: 2025-01-27 20:48:16 -0500 (Mon, 27 Jan 2025) EllapsedTime: 67.2 seconds RetCode: 0 Status: OK CheckDir: Anaquin.Rcheck Warnings: 0