Package: Anaquin Version: 2.30.0 Command: /Library/Frameworks/R.framework/Resources/bin/R CMD build --keep-empty-dirs --no-resave-data Anaquin StartedAt: 2025-03-31 16:51:37 -0400 (Mon, 31 Mar 2025) EndedAt: 2025-03-31 16:52:42 -0400 (Mon, 31 Mar 2025) EllapsedTime: 65.3 seconds RetCode: 0 Status: OK PackageFile: Anaquin_2.30.0.tar.gz PackageFileSize: 451.8 KiB