Package: Anaquin Version: 2.30.0 Command: rm -rf Anaquin.buildbin-libdir && mkdir Anaquin.buildbin-libdir && /Users/biocbuild/BBS/utils/build-universal.sh Anaquin_2.30.0.tar.gz /Library/Frameworks/R.framework/Resources/bin/R Anaquin.buildbin-libdir StartedAt: 2025-04-01 11:24:07 -0400 (Tue, 01 Apr 2025) EndedAt: 2025-04-01 11:24:19 -0400 (Tue, 01 Apr 2025) EllapsedTime: 12.0 seconds RetCode: 0 Status: OK PackageFile: Anaquin_2.30.0.tgz PackageFileSize: 456.1 KiB