Package: AnVILWorkflow Version: 1.6.0 Command: /home/biocbuild/R/R/bin/R CMD check --install=check:AnVILWorkflow.install-out.txt --library=/home/biocbuild/R/R/site-library --no-vignettes --timings AnVILWorkflow_1.6.0.tar.gz StartedAt: 2025-01-28 04:37:35 -0000 (Tue, 28 Jan 2025) EndedAt: 2025-01-28 04:38:15 -0000 (Tue, 28 Jan 2025) EllapsedTime: 40.1 seconds RetCode: 0 Status: WARNINGS CheckDir: AnVILWorkflow.Rcheck Warnings: 1