Package: AnVILWorkflow Version: 1.6.0 Command: rm -rf AnVILWorkflow.buildbin-libdir && mkdir AnVILWorkflow.buildbin-libdir && F:\biocbuild\bbs-3.20-bioc\R\bin\R.exe CMD INSTALL --build --library=AnVILWorkflow.buildbin-libdir AnVILWorkflow_1.6.0.tar.gz StartedAt: 2025-04-01 07:40:46 -0400 (Tue, 01 Apr 2025) EndedAt: 2025-04-01 07:41:13 -0400 (Tue, 01 Apr 2025) EllapsedTime: 27.8 seconds RetCode: 0 Status: OK PackageFile: AnVILWorkflow_1.6.0.zip PackageFileSize: 1.018 MiB