Package: AnVILWorkflow Version: 1.6.0 Command: /Library/Frameworks/R.framework/Resources/bin/R CMD INSTALL AnVILWorkflow StartedAt: 2025-03-31 16:50:37 -0400 (Mon, 31 Mar 2025) EndedAt: 2025-03-31 16:50:44 -0400 (Mon, 31 Mar 2025) EllapsedTime: 6.2 seconds RetCode: 0 Status: OK