Package: AnVILWorkflow Version: 1.6.0 Command: /Library/Frameworks/R.framework/Resources/bin/R CMD check --install=check:AnVILWorkflow.install-out.txt --library=/Library/Frameworks/R.framework/Resources/library --no-vignettes --timings AnVILWorkflow_1.6.0.tar.gz StartedAt: 2025-01-28 11:05:29 -0500 (Tue, 28 Jan 2025) EndedAt: 2025-01-28 11:06:09 -0500 (Tue, 28 Jan 2025) EllapsedTime: 40.4 seconds RetCode: 0 Status: WARNINGS CheckDir: AnVILWorkflow.Rcheck Warnings: 1