Package: AnVILBilling Version: 1.16.0 Command: /home/biocbuild/R/R/bin/R CMD check --install=check:AnVILBilling.install-out.txt --library=/home/biocbuild/R/R/site-library --no-vignettes --timings AnVILBilling_1.16.0.tar.gz StartedAt: 2025-01-31 03:50:57 -0000 (Fri, 31 Jan 2025) EndedAt: 2025-01-31 03:52:05 -0000 (Fri, 31 Jan 2025) EllapsedTime: 68.1 seconds RetCode: 0 Status: OK CheckDir: AnVILBilling.Rcheck Warnings: 0