Package: AnVILBilling Version: 1.16.0 Command: /Library/Frameworks/R.framework/Resources/bin/R CMD check --install=check:AnVILBilling.install-out.txt --library=/Library/Frameworks/R.framework/Resources/library --no-vignettes --timings AnVILBilling_1.16.0.tar.gz StartedAt: 2025-04-01 10:52:05 -0400 (Tue, 01 Apr 2025) EndedAt: 2025-04-01 10:53:04 -0400 (Tue, 01 Apr 2025) EllapsedTime: 59.8 seconds RetCode: 0 Status: OK CheckDir: AnVILBilling.Rcheck Warnings: 0