Package: AnVILBase Version: 1.0.0 Command: F:\biocbuild\bbs-3.20-bioc\R\bin\R.exe CMD INSTALL AnVILBase StartedAt: 2025-03-31 15:32:05 -0400 (Mon, 31 Mar 2025) EndedAt: 2025-03-31 15:32:47 -0400 (Mon, 31 Mar 2025) EllapsedTime: 41.6 seconds RetCode: 0 Status: OK