Package: AnVILBase Version: 1.0.0 Command: /home/biocbuild/bbs-3.20-bioc/R/bin/R CMD INSTALL AnVILBase StartedAt: 2025-03-31 15:13:29 -0400 (Mon, 31 Mar 2025) EndedAt: 2025-03-31 15:13:41 -0400 (Mon, 31 Mar 2025) EllapsedTime: 11.5 seconds RetCode: 0 Status: OK