Package: AnVIL Version: 1.18.4 Command: /home/biocbuild/R/R/bin/R CMD check --install=check:AnVIL.install-out.txt --library=/home/biocbuild/R/R/site-library --no-vignettes --timings AnVIL_1.18.4.tar.gz StartedAt: 2025-01-31 03:50:17 -0000 (Fri, 31 Jan 2025) EndedAt: 2025-01-31 03:51:25 -0000 (Fri, 31 Jan 2025) EllapsedTime: 68.1 seconds RetCode: 0 Status: OK CheckDir: AnVIL.Rcheck Warnings: 0