Package: AnVIL Version: 1.18.4 Command: rm -rf AnVIL.buildbin-libdir && mkdir AnVIL.buildbin-libdir && F:\biocbuild\bbs-3.20-bioc\R\bin\R.exe CMD INSTALL --build --library=AnVIL.buildbin-libdir AnVIL_1.18.4.tar.gz StartedAt: 2025-01-31 08:08:52 -0500 (Fri, 31 Jan 2025) EndedAt: 2025-01-31 08:09:38 -0500 (Fri, 31 Jan 2025) EllapsedTime: 46.1 seconds RetCode: 0 Status: OK PackageFile: AnVIL_1.18.4.zip PackageFileSize: 1.175 MiB