Package: AnVIL Version: 1.18.5 Command: /Library/Frameworks/R.framework/Resources/bin/R CMD INSTALL AnVIL StartedAt: 2025-03-31 16:36:17 -0400 (Mon, 31 Mar 2025) EndedAt: 2025-03-31 16:36:25 -0400 (Mon, 31 Mar 2025) EllapsedTime: 7.6 seconds RetCode: 0 Status: OK