Package: AlpsNMR Version: 4.8.0 Command: /home/biocbuild/R/R/bin/R CMD INSTALL AlpsNMR StartedAt: 2025-02-03 20:54:26 -0000 (Mon, 03 Feb 2025) EndedAt: 2025-02-03 20:54:43 -0000 (Mon, 03 Feb 2025) EllapsedTime: 16.1 seconds RetCode: 0 Status: OK