Package: AlpsNMR Version: 4.8.0 Command: F:\biocbuild\bbs-3.20-bioc\R\bin\R.exe CMD check --no-multiarch --install=check:AlpsNMR.install-out.txt --library=F:\biocbuild\bbs-3.20-bioc\R\library --no-vignettes --timings AlpsNMR_4.8.0.tar.gz StartedAt: 2025-02-03 23:05:40 -0500 (Mon, 03 Feb 2025) EndedAt: 2025-02-03 23:15:43 -0500 (Mon, 03 Feb 2025) EllapsedTime: 603.0 seconds RetCode: 0 Status: OK CheckDir: AlpsNMR.Rcheck Warnings: 0