Package: AlpsNMR Version: 4.8.0 Command: /Library/Frameworks/R.framework/Resources/bin/R CMD INSTALL AlpsNMR StartedAt: 2025-02-03 16:01:29 -0500 (Mon, 03 Feb 2025) EndedAt: 2025-02-03 16:02:02 -0500 (Mon, 03 Feb 2025) EllapsedTime: 32.1 seconds RetCode: 0 Status: OK