Package: AlpsNMR Version: 4.8.0 Command: /Library/Frameworks/R.framework/Resources/bin/R CMD build --keep-empty-dirs --no-resave-data AlpsNMR StartedAt: 2025-02-03 17:01:14 -0500 (Mon, 03 Feb 2025) EndedAt: 2025-02-03 17:06:42 -0500 (Mon, 03 Feb 2025) EllapsedTime: 327.5 seconds RetCode: 0 Status: OK PackageFile: AlpsNMR_4.8.0.tar.gz PackageFileSize: 3.698 MiB