Package: AlpsNMR Version: 4.8.0 Command: rm -rf AlpsNMR.buildbin-libdir && mkdir AlpsNMR.buildbin-libdir && /Users/biocbuild/BBS/utils/build-universal.sh AlpsNMR_4.8.0.tar.gz /Library/Frameworks/R.framework/Resources/bin/R AlpsNMR.buildbin-libdir StartedAt: 2025-02-04 12:26:53 -0500 (Tue, 04 Feb 2025) EndedAt: 2025-02-04 12:27:24 -0500 (Tue, 04 Feb 2025) EllapsedTime: 30.9 seconds RetCode: 0 Status: OK PackageFile: AlpsNMR_4.8.0.tgz PackageFileSize: 4.176 MiB