Package: AlpsNMR Version: 4.8.0 Command: /Library/Frameworks/R.framework/Resources/bin/R CMD INSTALL AlpsNMR StartedAt: 2025-02-03 16:31:43 -0500 (Mon, 03 Feb 2025) EndedAt: 2025-02-03 16:31:57 -0500 (Mon, 03 Feb 2025) EllapsedTime: 13.9 seconds RetCode: 0 Status: OK