Package: AlpsNMR Version: 4.8.0 Command: /Library/Frameworks/R.framework/Resources/bin/R CMD check --install=check:AlpsNMR.install-out.txt --library=/Library/Frameworks/R.framework/Resources/library --no-vignettes --timings AlpsNMR_4.8.0.tar.gz StartedAt: 2025-02-04 11:07:37 -0500 (Tue, 04 Feb 2025) EndedAt: 2025-02-04 11:10:51 -0500 (Tue, 04 Feb 2025) EllapsedTime: 194.6 seconds RetCode: 0 Status: OK CheckDir: AlpsNMR.Rcheck Warnings: 0