Package: AlpsNMR Version: 4.8.0 Command: /Library/Frameworks/R.framework/Resources/bin/R CMD build --keep-empty-dirs --no-resave-data AlpsNMR StartedAt: 2025-02-03 18:33:39 -0500 (Mon, 03 Feb 2025) EndedAt: 2025-02-03 18:35:22 -0500 (Mon, 03 Feb 2025) EllapsedTime: 102.5 seconds RetCode: 0 Status: OK PackageFile: AlpsNMR_4.8.0.tar.gz PackageFileSize: 3.697 MiB