Package: AlphaMissenseR Version: 1.2.0 Command: rm -rf AlphaMissenseR.buildbin-libdir && mkdir AlphaMissenseR.buildbin-libdir && F:\biocbuild\bbs-3.20-bioc\R\bin\R.exe CMD INSTALL --build --library=AlphaMissenseR.buildbin-libdir AlphaMissenseR_1.2.0.tar.gz StartedAt: 2025-04-01 07:39:20 -0400 (Tue, 01 Apr 2025) EndedAt: 2025-04-01 07:40:03 -0400 (Tue, 01 Apr 2025) EllapsedTime: 43.1 seconds RetCode: 0 Status: OK PackageFile: AlphaMissenseR_1.2.0.zip PackageFileSize: 2.59 MiB