Package: AlphaBeta Version: 1.20.0 Command: /home/biocbuild/R/R/bin/R CMD build --keep-empty-dirs --no-resave-data AlphaBeta StartedAt: 2025-01-27 22:15:52 -0000 (Mon, 27 Jan 2025) EndedAt: 2025-01-27 22:22:25 -0000 (Mon, 27 Jan 2025) EllapsedTime: 393.2 seconds RetCode: 0 Status: OK PackageFile: AlphaBeta_1.20.0.tar.gz PackageFileSize: 2.473 MiB