Package: AlphaBeta Version: 1.20.0 Command: /Library/Frameworks/R.framework/Resources/bin/R CMD build --keep-empty-dirs --no-resave-data AlphaBeta StartedAt: 2025-02-03 17:01:14 -0500 (Mon, 03 Feb 2025) EndedAt: 2025-02-03 17:14:47 -0500 (Mon, 03 Feb 2025) EllapsedTime: 812.4 seconds RetCode: 0 Status: OK PackageFile: AlphaBeta_1.20.0.tar.gz PackageFileSize: 2.476 MiB