Package: AlphaBeta Version: 1.20.0 Command: /Library/Frameworks/R.framework/Resources/bin/R CMD check --install=check:AlphaBeta.install-out.txt --library=/Library/Frameworks/R.framework/Resources/library --no-vignettes --timings AlphaBeta_1.20.0.tar.gz StartedAt: 2025-02-04 11:06:43 -0500 (Tue, 04 Feb 2025) EndedAt: 2025-02-04 11:13:48 -0500 (Tue, 04 Feb 2025) EllapsedTime: 424.2 seconds RetCode: 0 Status: OK CheckDir: AlphaBeta.Rcheck Warnings: 0