Package: AlphaBeta Version: 1.20.0 Command: rm -rf AlphaBeta.buildbin-libdir && mkdir AlphaBeta.buildbin-libdir && /Users/biocbuild/BBS/utils/build-universal.sh AlphaBeta_1.20.0.tar.gz /Library/Frameworks/R.framework/Resources/bin/R AlphaBeta.buildbin-libdir StartedAt: 2025-01-29 13:36:37 -0500 (Wed, 29 Jan 2025) EndedAt: 2025-01-29 13:36:54 -0500 (Wed, 29 Jan 2025) EllapsedTime: 17.0 seconds RetCode: 0 Status: OK PackageFile: AlphaBeta_1.20.0.tgz PackageFileSize: 2.703 MiB