Package: AllelicImbalance Version: 1.44.0 Command: /home/biocbuild/R/R/bin/R CMD check --install=check:AllelicImbalance.install-out.txt --library=/home/biocbuild/R/R/site-library --no-vignettes --timings AllelicImbalance_1.44.0.tar.gz StartedAt: 2025-02-04 04:16:15 -0000 (Tue, 04 Feb 2025) EndedAt: 2025-02-04 04:28:08 -0000 (Tue, 04 Feb 2025) EllapsedTime: 712.8 seconds RetCode: 0 Status: OK CheckDir: AllelicImbalance.Rcheck Warnings: 0