Package: AllelicImbalance Version: 1.44.0 Command: F:\biocbuild\bbs-3.20-bioc\R\bin\R.exe CMD check --no-multiarch --install=check:AllelicImbalance.install-out.txt --library=F:\biocbuild\bbs-3.20-bioc\R\library --no-vignettes --timings AllelicImbalance_1.44.0.tar.gz StartedAt: 2025-01-27 22:52:29 -0500 (Mon, 27 Jan 2025) EndedAt: 2025-01-27 23:02:01 -0500 (Mon, 27 Jan 2025) EllapsedTime: 572.4 seconds RetCode: 0 Status: OK CheckDir: AllelicImbalance.Rcheck Warnings: 0