Package: AllelicImbalance Version: 1.44.0 Command: /home/biocbuild/bbs-3.20-bioc/R/bin/R CMD check --install=check:AllelicImbalance.install-out.txt --library=/home/biocbuild/bbs-3.20-bioc/R/site-library --timings AllelicImbalance_1.44.0.tar.gz StartedAt: 2025-03-31 19:48:03 -0400 (Mon, 31 Mar 2025) EndedAt: 2025-03-31 19:56:52 -0400 (Mon, 31 Mar 2025) EllapsedTime: 529.7 seconds RetCode: 0 Status: OK CheckDir: AllelicImbalance.Rcheck Warnings: 0