Package: AgiMicroRna Version: 2.56.0 Command: /Library/Frameworks/R.framework/Resources/bin/R CMD check --install=check:AgiMicroRna.install-out.txt --library=/Library/Frameworks/R.framework/Resources/library --no-vignettes --timings AgiMicroRna_2.56.0.tar.gz StartedAt: 2025-02-11 10:47:42 -0500 (Tue, 11 Feb 2025) EndedAt: 2025-02-11 10:55:18 -0500 (Tue, 11 Feb 2025) EllapsedTime: 456.6 seconds RetCode: 0 Status: WARNINGS CheckDir: AgiMicroRna.Rcheck Warnings: 1