Package: AgiMicroRna Version: 2.56.0 Command: rm -rf AgiMicroRna.buildbin-libdir && mkdir AgiMicroRna.buildbin-libdir && /Users/biocbuild/BBS/utils/build-universal.sh AgiMicroRna_2.56.0.tar.gz /Library/Frameworks/R.framework/Resources/bin/R AgiMicroRna.buildbin-libdir StartedAt: 2025-02-12 13:59:05 -0500 (Wed, 12 Feb 2025) EndedAt: 2025-02-12 14:00:27 -0500 (Wed, 12 Feb 2025) EllapsedTime: 82.5 seconds RetCode: 0 Status: OK PackageFile: AgiMicroRna_2.56.0.tgz PackageFileSize: 3.518 MiB