Package: AffyRNADegradation Version: 1.52.0 Command: /home/biocbuild/R/R/bin/R CMD check --install=check:AffyRNADegradation.install-out.txt --library=/home/biocbuild/R/R/site-library --no-vignettes --timings AffyRNADegradation_1.52.0.tar.gz StartedAt: 2025-01-28 04:30:18 -0000 (Tue, 28 Jan 2025) EndedAt: 2025-01-28 04:31:39 -0000 (Tue, 28 Jan 2025) EllapsedTime: 81.2 seconds RetCode: 0 Status: OK CheckDir: AffyRNADegradation.Rcheck Warnings: 0