Package: AffyRNADegradation Version: 1.52.0 Command: F:\biocbuild\bbs-3.20-bioc\R\bin\R.exe CMD INSTALL AffyRNADegradation StartedAt: 2025-03-31 15:27:17 -0400 (Mon, 31 Mar 2025) EndedAt: 2025-03-31 15:28:00 -0400 (Mon, 31 Mar 2025) EllapsedTime: 43.0 seconds RetCode: 0 Status: OK