Package: AffiXcan Version: 1.24.0 Command: /home/biocbuild/R/R/bin/R CMD INSTALL AffiXcan StartedAt: 2025-01-27 21:17:35 -0000 (Mon, 27 Jan 2025) EndedAt: 2025-01-27 21:18:03 -0000 (Mon, 27 Jan 2025) EllapsedTime: 28.1 seconds RetCode: 0 Status: OK