Package: AffiXcan Version: 1.24.0 Command: /home/biocbuild/R/R/bin/R CMD check --install=check:AffiXcan.install-out.txt --library=/home/biocbuild/R/R/site-library --no-vignettes --timings AffiXcan_1.24.0.tar.gz StartedAt: 2025-04-01 03:43:41 -0000 (Tue, 01 Apr 2025) EndedAt: 2025-04-01 03:47:47 -0000 (Tue, 01 Apr 2025) EllapsedTime: 245.7 seconds RetCode: 0 Status: OK CheckDir: AffiXcan.Rcheck Warnings: 0