Package: AffiXcan Version: 1.24.0 Command: /home/biocbuild/R/R/bin/R CMD build --keep-empty-dirs --no-resave-data AffiXcan StartedAt: 2025-01-27 22:13:27 -0000 (Mon, 27 Jan 2025) EndedAt: 2025-01-27 22:14:14 -0000 (Mon, 27 Jan 2025) EllapsedTime: 47.0 seconds RetCode: 0 Status: OK PackageFile: AffiXcan_1.24.0.tar.gz PackageFileSize: 2.441 MiB